BEGIN:VCALENDAR
VERSION:2.0
PRODID:-//YIN Seafood - ECPv6.15.20//NONSGML v1.0//EN
CALSCALE:GREGORIAN
METHOD:PUBLISH
X-ORIGINAL-URL:https://yin-seafood.de
X-WR-CALDESC:Veranstaltungen für YIN Seafood
REFRESH-INTERVAL;VALUE=DURATION:PT1H
X-Robots-Tag:noindex
X-PUBLISHED-TTL:PT1H
BEGIN:VTIMEZONE
TZID:UTC
BEGIN:STANDARD
TZOFFSETFROM:+0000
TZOFFSETTO:+0000
TZNAME:UTC
DTSTART:20230101T000000
END:STANDARD
END:VTIMEZONE
BEGIN:VEVENT
DTSTART;VALUE=DATE:20240225
DTEND;VALUE=DATE:20240228
DTSTAMP:20260422T090053
CREATED:20230503T140838Z
LAST-MODIFIED:20230503T140838Z
UID:1592-1708819200-1709078399@yin-seafood.de
SUMMARY:fish international Messe
DESCRIPTION:Fachmesse für Fisch und Seafood
URL:https://yin-seafood.de/event/fish-international-messe/
LOCATION:Messe Bremen & ÖVB-Arena
END:VEVENT
END:VCALENDAR